BEGIN:VCALENDAR
VERSION:2.0
PRODID:-//Königlich privilegierte Schützengesellschaft Zirndorf - ECPv6.15.16//NONSGML v1.0//EN
CALSCALE:GREGORIAN
METHOD:PUBLISH
X-WR-CALNAME:Königlich privilegierte Schützengesellschaft Zirndorf
X-ORIGINAL-URL:https://www.kpsgz.de
X-WR-CALDESC:Veranstaltungen für Königlich privilegierte Schützengesellschaft Zirndorf
REFRESH-INTERVAL;VALUE=DURATION:PT1H
X-Robots-Tag:noindex
X-PUBLISHED-TTL:PT1H
BEGIN:VTIMEZONE
TZID:Europe/Berlin
BEGIN:DAYLIGHT
TZOFFSETFROM:+0100
TZOFFSETTO:+0200
TZNAME:CEST
DTSTART:20240331T010000
END:DAYLIGHT
BEGIN:STANDARD
TZOFFSETFROM:+0200
TZOFFSETTO:+0100
TZNAME:CET
DTSTART:20241027T010000
END:STANDARD
BEGIN:DAYLIGHT
TZOFFSETFROM:+0100
TZOFFSETTO:+0200
TZNAME:CEST
DTSTART:20250330T010000
END:DAYLIGHT
BEGIN:STANDARD
TZOFFSETFROM:+0200
TZOFFSETTO:+0100
TZNAME:CET
DTSTART:20251026T010000
END:STANDARD
BEGIN:DAYLIGHT
TZOFFSETFROM:+0100
TZOFFSETTO:+0200
TZNAME:CEST
DTSTART:20260329T010000
END:DAYLIGHT
BEGIN:STANDARD
TZOFFSETFROM:+0200
TZOFFSETTO:+0100
TZNAME:CET
DTSTART:20261025T010000
END:STANDARD
END:VTIMEZONE
BEGIN:VEVENT
DTSTART;TZID=Europe/Berlin:20251202T190000
DTEND;TZID=Europe/Berlin:20251202T220000
DTSTAMP:20260422T193753
CREATED:20250101T230916Z
LAST-MODIFIED:20250101T230916Z
UID:8048-1764702000-1764712800@www.kpsgz.de
SUMMARY:BDS-Training
DESCRIPTION:Zugriff verweigert. Bitte melden Sie sich für den Mitgliederbereich an. \nadmin@kpsgz.de
URL:https://www.kpsgz.de/event/bds-training-23/
LOCATION:königlich privilegierte Schützengesellschaft Zirndorf\, Eichenhain 1\, Zirndorf\, 90513\, Deutschland
CATEGORIES:BDS
END:VEVENT
BEGIN:VEVENT
DTSTART;TZID=Europe/Berlin:20251205T180000
DTEND;TZID=Europe/Berlin:20251205T220000
DTSTAMP:20260422T193753
CREATED:20250101T225929Z
LAST-MODIFIED:20250101T225929Z
UID:7996-1764957600-1764972000@www.kpsgz.de
SUMMARY:Airsoft Training (10m-Stand)
DESCRIPTION:Zugriff verweigert. Bitte melden Sie sich für den Mitgliederbereich an. \nadmin@kpsgz.de
URL:https://www.kpsgz.de/event/airsoft-training-10m-stand-22/
LOCATION:königlich privilegierte Schützengesellschaft Zirndorf\, Eichenhain 1\, Zirndorf\, 90513\, Deutschland
CATEGORIES:Airsoft
END:VEVENT
BEGIN:VEVENT
DTSTART;TZID=Europe/Berlin:20251206T090000
DTEND;TZID=Europe/Berlin:20251206T140000
DTSTAMP:20260422T193753
CREATED:20250101T225930Z
LAST-MODIFIED:20250101T225930Z
UID:7997-1765011600-1765029600@www.kpsgz.de
SUMMARY:Arbeitsdienst
DESCRIPTION:Zugriff verweigert. Bitte melden Sie sich für den Mitgliederbereich an. \nadmin@kpsgz.de
URL:https://www.kpsgz.de/event/arbeitsdienst-61/
LOCATION:königlich privilegierte Schützengesellschaft Zirndorf\, Eichenhain 1\, Zirndorf\, 90513\, Deutschland
END:VEVENT
BEGIN:VEVENT
DTSTART;TZID=Europe/Berlin:20251206T180000
DTEND;TZID=Europe/Berlin:20251206T180000
DTSTAMP:20260422T193753
CREATED:20250101T225930Z
LAST-MODIFIED:20250101T225930Z
UID:7998-1765044000-1765044000@www.kpsgz.de
SUMMARY:Weihnachtsfeier
DESCRIPTION:Zugriff verweigert. Bitte melden Sie sich für den Mitgliederbereich an. \nadmin@kpsgz.de
URL:https://www.kpsgz.de/event/weihnachtsfeier-5/
LOCATION:königlich privilegierte Schützengesellschaft Zirndorf\, Eichenhain 1\, Zirndorf\, 90513\, Deutschland
CATEGORIES:Veranstaltung
END:VEVENT
BEGIN:VEVENT
DTSTART;TZID=Europe/Berlin:20251212T180000
DTEND;TZID=Europe/Berlin:20251212T203000
DTSTAMP:20260422T193753
CREATED:20250101T230203Z
LAST-MODIFIED:20250101T230203Z
UID:8014-1765562400-1765571400@www.kpsgz.de
SUMMARY:KK Mehrlader (100m-Stand)
DESCRIPTION:Zugriff verweigert. Bitte melden Sie sich für den Mitgliederbereich an. \nadmin@kpsgz.de
URL:https://www.kpsgz.de/event/kk-mehrlader-100m-stand-11/
LOCATION:königlich privilegierte Schützengesellschaft Zirndorf\, Eichenhain 1\, Zirndorf\, 90513\, Deutschland
CATEGORIES:Kleinkaliber
END:VEVENT
BEGIN:VEVENT
DTSTART;TZID=Europe/Berlin:20251216T190000
DTEND;TZID=Europe/Berlin:20251216T220000
DTSTAMP:20260422T193753
CREATED:20250101T230930Z
LAST-MODIFIED:20250101T230930Z
UID:8049-1765911600-1765922400@www.kpsgz.de
SUMMARY:BDS-Training
DESCRIPTION:Zugriff verweigert. Bitte melden Sie sich für den Mitgliederbereich an. \nadmin@kpsgz.de
URL:https://www.kpsgz.de/event/bds-training-24/
LOCATION:königlich privilegierte Schützengesellschaft Zirndorf\, Eichenhain 1\, Zirndorf\, 90513\, Deutschland
CATEGORIES:BDS
END:VEVENT
BEGIN:VEVENT
DTSTART;TZID=Europe/Berlin:20251218T190000
DTEND;TZID=Europe/Berlin:20251218T190000
DTSTAMP:20260422T193753
CREATED:20250101T225942Z
LAST-MODIFIED:20250101T225942Z
UID:7999-1766084400-1766084400@www.kpsgz.de
SUMMARY:Treffen der Altersschützen
DESCRIPTION:Zugriff verweigert. Bitte melden Sie sich für den Mitgliederbereich an. \nadmin@kpsgz.de
URL:https://www.kpsgz.de/event/treffen-der-altersschuetzen-55/
LOCATION:königlich privilegierte Schützengesellschaft Zirndorf\, Eichenhain 1\, Zirndorf\, 90513\, Deutschland
CATEGORIES:Altersschützen
END:VEVENT
BEGIN:VEVENT
DTSTART;TZID=Europe/Berlin:20251219T180000
DTEND;TZID=Europe/Berlin:20251219T220000
DTSTAMP:20260422T193753
CREATED:20250101T225943Z
LAST-MODIFIED:20250101T225943Z
UID:8000-1766167200-1766181600@www.kpsgz.de
SUMMARY:Airsoft Training (10m-Stand)
DESCRIPTION:Zugriff verweigert. Bitte melden Sie sich für den Mitgliederbereich an. \nadmin@kpsgz.de
URL:https://www.kpsgz.de/event/airsoft-training-10m-stand-23/
LOCATION:königlich privilegierte Schützengesellschaft Zirndorf\, Eichenhain 1\, Zirndorf\, 90513\, Deutschland
CATEGORIES:Airsoft
END:VEVENT
BEGIN:VEVENT
DTSTART;TZID=Europe/Berlin:20251220T090000
DTEND;TZID=Europe/Berlin:20251220T140000
DTSTAMP:20260422T193753
CREATED:20250101T225943Z
LAST-MODIFIED:20250101T225943Z
UID:8001-1766221200-1766239200@www.kpsgz.de
SUMMARY:Arbeitsdienst
DESCRIPTION:Zugriff verweigert. Bitte melden Sie sich für den Mitgliederbereich an. \nadmin@kpsgz.de
URL:https://www.kpsgz.de/event/arbeitsdienst-62/
LOCATION:königlich privilegierte Schützengesellschaft Zirndorf\, Eichenhain 1\, Zirndorf\, 90513\, Deutschland
END:VEVENT
BEGIN:VEVENT
DTSTART;TZID=Europe/Berlin:20251227T170000
DTEND;TZID=Europe/Berlin:20251227T210000
DTSTAMP:20260422T193753
CREATED:20250101T231103Z
LAST-MODIFIED:20250110T213203Z
UID:8061-1766854800-1766869200@www.kpsgz.de
SUMMARY:Ordonnanztraining (100m-Stand)
DESCRIPTION:Zugriff verweigert. Bitte melden Sie sich für den Mitgliederbereich an. \nadmin@kpsgz.de
URL:https://www.kpsgz.de/event/ordonnanztraining-100m-stand-12/
LOCATION:königlich privilegierte Schützengesellschaft Zirndorf\, Eichenhain 1\, Zirndorf\, 90513\, Deutschland
CATEGORIES:Ordonnanz
END:VEVENT
BEGIN:VEVENT
DTSTART;TZID=Europe/Berlin:20251231T100000
DTEND;TZID=Europe/Berlin:20251231T100000
DTSTAMP:20260422T193753
CREATED:20250101T225944Z
LAST-MODIFIED:20250101T225944Z
UID:8002-1767175200-1767175200@www.kpsgz.de
SUMMARY:Silvesterschießen
DESCRIPTION:Zugriff verweigert. Bitte melden Sie sich für den Mitgliederbereich an. \nadmin@kpsgz.de
URL:https://www.kpsgz.de/event/silvesterschiessen-4/
LOCATION:königlich privilegierte Schützengesellschaft Zirndorf\, Eichenhain 1\, Zirndorf\, 90513\, Deutschland
CATEGORIES:Preisschießen
END:VEVENT
END:VCALENDAR