BEGIN:VCALENDAR
VERSION:2.0
PRODID:-//Königlich privilegierte Schützengesellschaft Zirndorf - ECPv6.15.16//NONSGML v1.0//EN
CALSCALE:GREGORIAN
METHOD:PUBLISH
X-WR-CALNAME:Königlich privilegierte Schützengesellschaft Zirndorf
X-ORIGINAL-URL:https://www.kpsgz.de
X-WR-CALDESC:Veranstaltungen für Königlich privilegierte Schützengesellschaft Zirndorf
REFRESH-INTERVAL;VALUE=DURATION:PT1H
X-Robots-Tag:noindex
X-PUBLISHED-TTL:PT1H
BEGIN:VTIMEZONE
TZID:Europe/Berlin
BEGIN:DAYLIGHT
TZOFFSETFROM:+0100
TZOFFSETTO:+0200
TZNAME:CEST
DTSTART:20240331T010000
END:DAYLIGHT
BEGIN:STANDARD
TZOFFSETFROM:+0200
TZOFFSETTO:+0100
TZNAME:CET
DTSTART:20241027T010000
END:STANDARD
BEGIN:DAYLIGHT
TZOFFSETFROM:+0100
TZOFFSETTO:+0200
TZNAME:CEST
DTSTART:20250330T010000
END:DAYLIGHT
BEGIN:STANDARD
TZOFFSETFROM:+0200
TZOFFSETTO:+0100
TZNAME:CET
DTSTART:20251026T010000
END:STANDARD
BEGIN:DAYLIGHT
TZOFFSETFROM:+0100
TZOFFSETTO:+0200
TZNAME:CEST
DTSTART:20260329T010000
END:DAYLIGHT
BEGIN:STANDARD
TZOFFSETFROM:+0200
TZOFFSETTO:+0100
TZNAME:CET
DTSTART:20261025T010000
END:STANDARD
END:VTIMEZONE
BEGIN:VEVENT
DTSTART;TZID=Europe/Berlin:20251104T190000
DTEND;TZID=Europe/Berlin:20251104T220000
DTSTAMP:20260422T175758
CREATED:20250101T230915Z
LAST-MODIFIED:20250101T230915Z
UID:8046-1762282800-1762293600@www.kpsgz.de
SUMMARY:BDS-Training
DESCRIPTION:Zugriff verweigert. Bitte melden Sie sich für den Mitgliederbereich an. \nadmin@kpsgz.de
URL:https://www.kpsgz.de/event/bds-training-21/
LOCATION:königlich privilegierte Schützengesellschaft Zirndorf\, Eichenhain 1\, Zirndorf\, 90513\, Deutschland
CATEGORIES:BDS
END:VEVENT
BEGIN:VEVENT
DTSTART;TZID=Europe/Berlin:20251107T180000
DTEND;TZID=Europe/Berlin:20251107T220000
DTSTAMP:20260422T175758
CREATED:20250101T225912Z
LAST-MODIFIED:20250101T225912Z
UID:7989-1762538400-1762552800@www.kpsgz.de
SUMMARY:Airsoft Training (10m-Stand)
DESCRIPTION:Zugriff verweigert. Bitte melden Sie sich für den Mitgliederbereich an. \nadmin@kpsgz.de
URL:https://www.kpsgz.de/event/airsoft-training-10m-stand-20/
LOCATION:königlich privilegierte Schützengesellschaft Zirndorf\, Eichenhain 1\, Zirndorf\, 90513\, Deutschland
CATEGORIES:Airsoft
END:VEVENT
BEGIN:VEVENT
DTSTART;TZID=Europe/Berlin:20251107T180000
DTEND;TZID=Europe/Berlin:20251107T220000
DTSTAMP:20260422T175758
CREATED:20250707T215849Z
LAST-MODIFIED:20250707T215849Z
UID:8489-1762538400-1762552800@www.kpsgz.de
SUMMARY:Waffensachkunde 03/2025 - Theorie
DESCRIPTION:Zugriff verweigert. Bitte melden Sie sich für den Mitgliederbereich an. \nadmin@kpsgz.de
URL:https://www.kpsgz.de/event/waffensachkunde-03-2025-theorie/
LOCATION:königlich privilegierte Schützengesellschaft Zirndorf\, Eichenhain 1\, Zirndorf\, 90513\, Deutschland
CATEGORIES:Waffensachkunde
END:VEVENT
BEGIN:VEVENT
DTSTART;TZID=Europe/Berlin:20251108T090000
DTEND;TZID=Europe/Berlin:20251108T170000
DTSTAMP:20260422T175758
CREATED:20250707T215930Z
LAST-MODIFIED:20250707T215930Z
UID:8488-1762592400-1762621200@www.kpsgz.de
SUMMARY:Waffensachkunde 03/2025 - Theorie
DESCRIPTION:Zugriff verweigert. Bitte melden Sie sich für den Mitgliederbereich an. \nadmin@kpsgz.de
URL:https://www.kpsgz.de/event/waffensachkunde-03-2025-theorie-2/
LOCATION:königlich privilegierte Schützengesellschaft Zirndorf\, Eichenhain 1\, Zirndorf\, 90513\, Deutschland
CATEGORIES:Waffensachkunde
END:VEVENT
BEGIN:VEVENT
DTSTART;TZID=Europe/Berlin:20251108T180000
DTEND;TZID=Europe/Berlin:20251108T180000
DTSTAMP:20260422T175758
CREATED:20250101T225913Z
LAST-MODIFIED:20250101T225913Z
UID:7990-1762624800-1762624800@www.kpsgz.de
SUMMARY:Gauehrenabend
DESCRIPTION:Zugriff verweigert. Bitte melden Sie sich für den Mitgliederbereich an. \nadmin@kpsgz.de
URL:https://www.kpsgz.de/event/gauehrenabend/
CATEGORIES:Veranstaltung
END:VEVENT
BEGIN:VEVENT
DTSTART;TZID=Europe/Berlin:20251109T090000
DTEND;TZID=Europe/Berlin:20251109T150000
DTSTAMP:20260422T175758
CREATED:20250707T220002Z
LAST-MODIFIED:20250707T220002Z
UID:8487-1762678800-1762700400@www.kpsgz.de
SUMMARY:Waffensachkunde 03/2025 - Theorie
DESCRIPTION:Zugriff verweigert. Bitte melden Sie sich für den Mitgliederbereich an. \nadmin@kpsgz.de
URL:https://www.kpsgz.de/event/waffensachkunde-03-2025-theorie-3/
LOCATION:königlich privilegierte Schützengesellschaft Zirndorf\, Eichenhain 1\, Zirndorf\, 90513\, Deutschland
CATEGORIES:Waffensachkunde
END:VEVENT
BEGIN:VEVENT
DTSTART;TZID=Europe/Berlin:20251111T180000
DTEND;TZID=Europe/Berlin:20251111T210000
DTSTAMP:20260422T175758
CREATED:20250707T220053Z
LAST-MODIFIED:20250707T220053Z
UID:8486-1762884000-1762894800@www.kpsgz.de
SUMMARY:Waffensachkunde 03/2025 - Praxis
DESCRIPTION:Zugriff verweigert. Bitte melden Sie sich für den Mitgliederbereich an. \nadmin@kpsgz.de
URL:https://www.kpsgz.de/event/waffensachkunde-03-2025-praxis/
LOCATION:königlich privilegierte Schützengesellschaft Zirndorf\, Eichenhain 1\, Zirndorf\, 90513\, Deutschland
CATEGORIES:Waffensachkunde
END:VEVENT
BEGIN:VEVENT
DTSTART;TZID=Europe/Berlin:20251114T180000
DTEND;TZID=Europe/Berlin:20251114T203000
DTSTAMP:20260422T175758
CREATED:20250101T230151Z
LAST-MODIFIED:20250101T230151Z
UID:8013-1763143200-1763152200@www.kpsgz.de
SUMMARY:KK Mehrlader (100m-Stand)
DESCRIPTION:Zugriff verweigert. Bitte melden Sie sich für den Mitgliederbereich an. \nadmin@kpsgz.de
URL:https://www.kpsgz.de/event/kk-mehrlader-100m-stand-10/
LOCATION:königlich privilegierte Schützengesellschaft Zirndorf\, Eichenhain 1\, Zirndorf\, 90513\, Deutschland
CATEGORIES:Kleinkaliber
END:VEVENT
BEGIN:VEVENT
DTSTART;TZID=Europe/Berlin:20251115T090000
DTEND;TZID=Europe/Berlin:20251115T130000
DTSTAMP:20260422T175758
CREATED:20250707T215816Z
LAST-MODIFIED:20250707T215816Z
UID:8490-1763197200-1763211600@www.kpsgz.de
SUMMARY:Waffensachkunde 03/2025 - Prüfung
DESCRIPTION:Zugriff verweigert. Bitte melden Sie sich für den Mitgliederbereich an. \nadmin@kpsgz.de
URL:https://www.kpsgz.de/event/waffensachkunde-03-2025-pruefung/
LOCATION:königlich privilegierte Schützengesellschaft Zirndorf\, Eichenhain 1\, Zirndorf\, 90513\, Deutschland
CATEGORIES:Waffensachkunde
END:VEVENT
BEGIN:VEVENT
DTSTART;TZID=Europe/Berlin:20251115T090000
DTEND;TZID=Europe/Berlin:20251115T140000
DTSTAMP:20260422T175758
CREATED:20250101T225913Z
LAST-MODIFIED:20250101T225913Z
UID:7991-1763197200-1763215200@www.kpsgz.de
SUMMARY:Arbeitsdienst
DESCRIPTION:Zugriff verweigert. Bitte melden Sie sich für den Mitgliederbereich an. \nadmin@kpsgz.de
URL:https://www.kpsgz.de/event/arbeitsdienst-60/
LOCATION:königlich privilegierte Schützengesellschaft Zirndorf\, Eichenhain 1\, Zirndorf\, 90513\, Deutschland
END:VEVENT
BEGIN:VEVENT
DTSTART;TZID=Europe/Berlin:20251118T190000
DTEND;TZID=Europe/Berlin:20251118T220000
DTSTAMP:20260422T175758
CREATED:20250101T230915Z
LAST-MODIFIED:20250101T230915Z
UID:8047-1763492400-1763503200@www.kpsgz.de
SUMMARY:BDS-Training
DESCRIPTION:Zugriff verweigert. Bitte melden Sie sich für den Mitgliederbereich an. \nadmin@kpsgz.de
URL:https://www.kpsgz.de/event/bds-training-22/
LOCATION:königlich privilegierte Schützengesellschaft Zirndorf\, Eichenhain 1\, Zirndorf\, 90513\, Deutschland
CATEGORIES:BDS
END:VEVENT
BEGIN:VEVENT
DTSTART;TZID=Europe/Berlin:20251121T180000
DTEND;TZID=Europe/Berlin:20251121T220000
DTSTAMP:20260422T175758
CREATED:20250101T225914Z
LAST-MODIFIED:20250101T225914Z
UID:7992-1763748000-1763762400@www.kpsgz.de
SUMMARY:Airsoft Training (10m-Stand)
DESCRIPTION:Zugriff verweigert. Bitte melden Sie sich für den Mitgliederbereich an. \nadmin@kpsgz.de
URL:https://www.kpsgz.de/event/airsoft-training-10m-stand-21/
LOCATION:königlich privilegierte Schützengesellschaft Zirndorf\, Eichenhain 1\, Zirndorf\, 90513\, Deutschland
CATEGORIES:Airsoft
END:VEVENT
BEGIN:VEVENT
DTSTART;TZID=Europe/Berlin:20251124T180000
DTEND;TZID=Europe/Berlin:20251124T210000
DTSTAMP:20260422T175758
CREATED:20250101T225914Z
LAST-MODIFIED:20250930T201748Z
UID:7993-1764007200-1764018000@www.kpsgz.de
SUMMARY:Weihnachtsschießen
DESCRIPTION:Zugriff verweigert. Bitte melden Sie sich für den Mitgliederbereich an. \nadmin@kpsgz.de
URL:https://www.kpsgz.de/event/weihnachtsschiessen-10/
LOCATION:königlich privilegierte Schützengesellschaft Zirndorf\, Eichenhain 1\, Zirndorf\, 90513\, Deutschland
CATEGORIES:Preisschießen
END:VEVENT
BEGIN:VEVENT
DTSTART;TZID=Europe/Berlin:20251125T183000
DTEND;TZID=Europe/Berlin:20251125T220000
DTSTAMP:20260422T175758
CREATED:20250101T231102Z
LAST-MODIFIED:20250110T213122Z
UID:8060-1764095400-1764108000@www.kpsgz.de
SUMMARY:Ordonnanztraining (100m-Stand)
DESCRIPTION:Zugriff verweigert. Bitte melden Sie sich für den Mitgliederbereich an. \nadmin@kpsgz.de
URL:https://www.kpsgz.de/event/ordonnanztraining-100m-stand-11/
LOCATION:königlich privilegierte Schützengesellschaft Zirndorf\, Eichenhain 1\, Zirndorf\, 90513\, Deutschland
CATEGORIES:Ordonnanz
END:VEVENT
BEGIN:VEVENT
DTSTART;TZID=Europe/Berlin:20251127T180000
DTEND;TZID=Europe/Berlin:20251127T210000
DTSTAMP:20260422T175758
CREATED:20250101T225929Z
LAST-MODIFIED:20250930T201903Z
UID:7995-1764266400-1764277200@www.kpsgz.de
SUMMARY:Weihnachtsschießen
DESCRIPTION:Zugriff verweigert. Bitte melden Sie sich für den Mitgliederbereich an. \nadmin@kpsgz.de
URL:https://www.kpsgz.de/event/weihnachtsschiessen-11/
LOCATION:königlich privilegierte Schützengesellschaft Zirndorf\, Eichenhain 1\, Zirndorf\, 90513\, Deutschland
CATEGORIES:Preisschießen
END:VEVENT
BEGIN:VEVENT
DTSTART;TZID=Europe/Berlin:20251127T190000
DTEND;TZID=Europe/Berlin:20251127T190000
DTSTAMP:20260422T175758
CREATED:20250101T225928Z
LAST-MODIFIED:20250101T225928Z
UID:7994-1764270000-1764270000@www.kpsgz.de
SUMMARY:Treffen der Altersschützen
DESCRIPTION:Zugriff verweigert. Bitte melden Sie sich für den Mitgliederbereich an. \nadmin@kpsgz.de
URL:https://www.kpsgz.de/event/treffen-der-altersschuetzen-54/
LOCATION:königlich privilegierte Schützengesellschaft Zirndorf\, Eichenhain 1\, Zirndorf\, 90513\, Deutschland
CATEGORIES:Altersschützen
END:VEVENT
BEGIN:VEVENT
DTSTART;TZID=Europe/Berlin:20251128T180000
DTEND;TZID=Europe/Berlin:20251128T203000
DTSTAMP:20260422T175758
CREATED:20250101T230340Z
LAST-MODIFIED:20250101T230340Z
UID:8025-1764352800-1764361800@www.kpsgz.de
SUMMARY:Unterhebel C (25m-Stand rechts)
DESCRIPTION:Zugriff verweigert. Bitte melden Sie sich für den Mitgliederbereich an. \nadmin@kpsgz.de
URL:https://www.kpsgz.de/event/unterhebel-c-25m-stand-rechts-10/
LOCATION:königlich privilegierte Schützengesellschaft Zirndorf\, Eichenhain 1\, Zirndorf\, 90513\, Deutschland
CATEGORIES:Kleinkaliber
END:VEVENT
END:VCALENDAR