BEGIN:VCALENDAR
VERSION:2.0
PRODID:-//Königlich privilegierte Schützengesellschaft Zirndorf - ECPv6.15.16//NONSGML v1.0//EN
CALSCALE:GREGORIAN
METHOD:PUBLISH
X-WR-CALNAME:Königlich privilegierte Schützengesellschaft Zirndorf
X-ORIGINAL-URL:https://www.kpsgz.de
X-WR-CALDESC:Veranstaltungen für Königlich privilegierte Schützengesellschaft Zirndorf
REFRESH-INTERVAL;VALUE=DURATION:PT1H
X-Robots-Tag:noindex
X-PUBLISHED-TTL:PT1H
BEGIN:VTIMEZONE
TZID:Europe/Berlin
BEGIN:DAYLIGHT
TZOFFSETFROM:+0100
TZOFFSETTO:+0200
TZNAME:CEST
DTSTART:20240331T010000
END:DAYLIGHT
BEGIN:STANDARD
TZOFFSETFROM:+0200
TZOFFSETTO:+0100
TZNAME:CET
DTSTART:20241027T010000
END:STANDARD
BEGIN:DAYLIGHT
TZOFFSETFROM:+0100
TZOFFSETTO:+0200
TZNAME:CEST
DTSTART:20250330T010000
END:DAYLIGHT
BEGIN:STANDARD
TZOFFSETFROM:+0200
TZOFFSETTO:+0100
TZNAME:CET
DTSTART:20251026T010000
END:STANDARD
BEGIN:DAYLIGHT
TZOFFSETFROM:+0100
TZOFFSETTO:+0200
TZNAME:CEST
DTSTART:20260329T010000
END:DAYLIGHT
BEGIN:STANDARD
TZOFFSETFROM:+0200
TZOFFSETTO:+0100
TZNAME:CET
DTSTART:20261025T010000
END:STANDARD
END:VTIMEZONE
BEGIN:VEVENT
DTSTART;TZID=Europe/Berlin:20250902T190000
DTEND;TZID=Europe/Berlin:20250902T220000
DTSTAMP:20260422T141701
CREATED:20250101T230902Z
LAST-MODIFIED:20250101T230902Z
UID:8042-1756839600-1756850400@www.kpsgz.de
SUMMARY:BDS-Training
DESCRIPTION:Zugriff verweigert. Bitte melden Sie sich für den Mitgliederbereich an. \nadmin@kpsgz.de
URL:https://www.kpsgz.de/event/bds-training-17/
LOCATION:königlich privilegierte Schützengesellschaft Zirndorf\, Eichenhain 1\, Zirndorf\, 90513\, Deutschland
CATEGORIES:BDS
END:VEVENT
BEGIN:VEVENT
DTSTART;TZID=Europe/Berlin:20250905T180000
DTEND;TZID=Europe/Berlin:20250905T220000
DTSTAMP:20260422T141701
CREATED:20250101T225830Z
LAST-MODIFIED:20250101T225830Z
UID:7977-1757095200-1757109600@www.kpsgz.de
SUMMARY:Airsoft Training (10m-Stand)
DESCRIPTION:Zugriff verweigert. Bitte melden Sie sich für den Mitgliederbereich an. \nadmin@kpsgz.de
URL:https://www.kpsgz.de/event/airsoft-training-10m-stand-17/
LOCATION:königlich privilegierte Schützengesellschaft Zirndorf\, Eichenhain 1\, Zirndorf\, 90513\, Deutschland
CATEGORIES:Airsoft
END:VEVENT
BEGIN:VEVENT
DTSTART;TZID=Europe/Berlin:20250906T090000
DTEND;TZID=Europe/Berlin:20250906T140000
DTSTAMP:20260422T141701
CREATED:20250101T225830Z
LAST-MODIFIED:20250101T225830Z
UID:7978-1757149200-1757167200@www.kpsgz.de
SUMMARY:Arbeitsdienst
DESCRIPTION:Zugriff verweigert. Bitte melden Sie sich für den Mitgliederbereich an. \nadmin@kpsgz.de
URL:https://www.kpsgz.de/event/arbeitsdienst-56/
LOCATION:königlich privilegierte Schützengesellschaft Zirndorf\, Eichenhain 1\, Zirndorf\, 90513\, Deutschland
END:VEVENT
BEGIN:VEVENT
DTSTART;TZID=Europe/Berlin:20250906T160000
DTEND;TZID=Europe/Berlin:20250906T160000
DTSTAMP:20260422T141701
CREATED:20250101T225842Z
LAST-MODIFIED:20250903T201337Z
UID:7979-1757174400-1757174400@www.kpsgz.de
SUMMARY:Grillfest
DESCRIPTION:Zugriff verweigert. Bitte melden Sie sich für den Mitgliederbereich an. \nadmin@kpsgz.de
URL:https://www.kpsgz.de/event/grillfest/
LOCATION:königlich privilegierte Schützengesellschaft Zirndorf\, Eichenhain 1\, Zirndorf\, 90513\, Deutschland
CATEGORIES:Veranstaltung
END:VEVENT
BEGIN:VEVENT
DTSTART;TZID=Europe/Berlin:20250912T180000
DTEND;TZID=Europe/Berlin:20250912T203000
DTSTAMP:20260422T141701
CREATED:20250101T230150Z
LAST-MODIFIED:20250101T230150Z
UID:8011-1757700000-1757709000@www.kpsgz.de
SUMMARY:KK Mehrlader (100m-Stand)
DESCRIPTION:Zugriff verweigert. Bitte melden Sie sich für den Mitgliederbereich an. \nadmin@kpsgz.de
URL:https://www.kpsgz.de/event/kk-mehrlader-100m-stand-9/
LOCATION:königlich privilegierte Schützengesellschaft Zirndorf\, Eichenhain 1\, Zirndorf\, 90513\, Deutschland
CATEGORIES:Kleinkaliber
END:VEVENT
BEGIN:VEVENT
DTSTART;TZID=Europe/Berlin:20250916T190000
DTEND;TZID=Europe/Berlin:20250916T220000
DTSTAMP:20260422T141701
CREATED:20250101T230902Z
LAST-MODIFIED:20250101T230902Z
UID:8043-1758049200-1758060000@www.kpsgz.de
SUMMARY:BDS-Training
DESCRIPTION:Zugriff verweigert. Bitte melden Sie sich für den Mitgliederbereich an. \nadmin@kpsgz.de
URL:https://www.kpsgz.de/event/bds-training-18/
LOCATION:königlich privilegierte Schützengesellschaft Zirndorf\, Eichenhain 1\, Zirndorf\, 90513\, Deutschland
CATEGORIES:BDS
END:VEVENT
BEGIN:VEVENT
DTSTART;TZID=Europe/Berlin:20250919T180000
DTEND;TZID=Europe/Berlin:20250919T220000
DTSTAMP:20260422T141701
CREATED:20250101T225843Z
LAST-MODIFIED:20250101T225843Z
UID:7980-1758304800-1758319200@www.kpsgz.de
SUMMARY:Airsoft Training (10m-Stand)
DESCRIPTION:Zugriff verweigert. Bitte melden Sie sich für den Mitgliederbereich an. \nadmin@kpsgz.de
URL:https://www.kpsgz.de/event/airsoft-training-10m-stand-18/
LOCATION:königlich privilegierte Schützengesellschaft Zirndorf\, Eichenhain 1\, Zirndorf\, 90513\, Deutschland
CATEGORIES:Airsoft
END:VEVENT
BEGIN:VEVENT
DTSTART;TZID=Europe/Berlin:20250920T090000
DTEND;TZID=Europe/Berlin:20250920T140000
DTSTAMP:20260422T141701
CREATED:20250101T225843Z
LAST-MODIFIED:20250101T225843Z
UID:7981-1758358800-1758376800@www.kpsgz.de
SUMMARY:Arbeitsdienst
DESCRIPTION:Zugriff verweigert. Bitte melden Sie sich für den Mitgliederbereich an. \nadmin@kpsgz.de
URL:https://www.kpsgz.de/event/arbeitsdienst-57/
LOCATION:königlich privilegierte Schützengesellschaft Zirndorf\, Eichenhain 1\, Zirndorf\, 90513\, Deutschland
END:VEVENT
BEGIN:VEVENT
DTSTART;TZID=Europe/Berlin:20250925T190000
DTEND;TZID=Europe/Berlin:20250925T190000
DTSTAMP:20260422T141701
CREATED:20250101T225844Z
LAST-MODIFIED:20250101T225844Z
UID:7982-1758826800-1758826800@www.kpsgz.de
SUMMARY:Treffen der Altersschützen
DESCRIPTION:Zugriff verweigert. Bitte melden Sie sich für den Mitgliederbereich an. \nadmin@kpsgz.de
URL:https://www.kpsgz.de/event/treffen-der-altersschuetzen-52/
LOCATION:königlich privilegierte Schützengesellschaft Zirndorf\, Eichenhain 1\, Zirndorf\, 90513\, Deutschland
CATEGORIES:Altersschützen
END:VEVENT
BEGIN:VEVENT
DTSTART;TZID=Europe/Berlin:20250926T180000
DTEND;TZID=Europe/Berlin:20250926T203000
DTSTAMP:20260422T141701
CREATED:20250101T230327Z
LAST-MODIFIED:20250101T230327Z
UID:8023-1758909600-1758918600@www.kpsgz.de
SUMMARY:Unterhebel C (25m-Stand rechts)
DESCRIPTION:Zugriff verweigert. Bitte melden Sie sich für den Mitgliederbereich an. \nadmin@kpsgz.de
URL:https://www.kpsgz.de/event/unterhebel-c-25m-stand-rechts-8/
LOCATION:königlich privilegierte Schützengesellschaft Zirndorf\, Eichenhain 1\, Zirndorf\, 90513\, Deutschland
CATEGORIES:Kleinkaliber
END:VEVENT
BEGIN:VEVENT
DTSTART;VALUE=DATE:20250927
DTEND;VALUE=DATE:20250928
DTSTAMP:20260422T141701
CREATED:20250701T213022Z
LAST-MODIFIED:20250701T213305Z
UID:8467-1758931200-1759017599@www.kpsgz.de
SUMMARY:Fahrt zum Oktoberfest-Landesschießen
DESCRIPTION:Zugriff verweigert. Bitte melden Sie sich für den Mitgliederbereich an. \nadmin@kpsgz.de
URL:https://www.kpsgz.de/event/fahrt-zum-oktoberfest-landesschiessen/
END:VEVENT
BEGIN:VEVENT
DTSTART;TZID=Europe/Berlin:20250930T183000
DTEND;TZID=Europe/Berlin:20250930T220000
DTSTAMP:20260422T141701
CREATED:20250101T230946Z
LAST-MODIFIED:20250110T212950Z
UID:8058-1759257000-1759269600@www.kpsgz.de
SUMMARY:Ordonnanztraining (100m-Stand)
DESCRIPTION:Zugriff verweigert. Bitte melden Sie sich für den Mitgliederbereich an. \nadmin@kpsgz.de
URL:https://www.kpsgz.de/event/ordonnanztraining-100m-stand-9/
LOCATION:königlich privilegierte Schützengesellschaft Zirndorf\, Eichenhain 1\, Zirndorf\, 90513\, Deutschland
CATEGORIES:Ordonnanz
END:VEVENT
END:VCALENDAR