BEGIN:VCALENDAR
VERSION:2.0
PRODID:-//Königlich privilegierte Schützengesellschaft Zirndorf - ECPv6.15.16//NONSGML v1.0//EN
CALSCALE:GREGORIAN
METHOD:PUBLISH
X-WR-CALNAME:Königlich privilegierte Schützengesellschaft Zirndorf
X-ORIGINAL-URL:https://www.kpsgz.de
X-WR-CALDESC:Veranstaltungen für Königlich privilegierte Schützengesellschaft Zirndorf
REFRESH-INTERVAL;VALUE=DURATION:PT1H
X-Robots-Tag:noindex
X-PUBLISHED-TTL:PT1H
BEGIN:VTIMEZONE
TZID:Europe/Berlin
BEGIN:DAYLIGHT
TZOFFSETFROM:+0100
TZOFFSETTO:+0200
TZNAME:CEST
DTSTART:20240331T010000
END:DAYLIGHT
BEGIN:STANDARD
TZOFFSETFROM:+0200
TZOFFSETTO:+0100
TZNAME:CET
DTSTART:20241027T010000
END:STANDARD
BEGIN:DAYLIGHT
TZOFFSETFROM:+0100
TZOFFSETTO:+0200
TZNAME:CEST
DTSTART:20250330T010000
END:DAYLIGHT
BEGIN:STANDARD
TZOFFSETFROM:+0200
TZOFFSETTO:+0100
TZNAME:CET
DTSTART:20251026T010000
END:STANDARD
BEGIN:DAYLIGHT
TZOFFSETFROM:+0100
TZOFFSETTO:+0200
TZNAME:CEST
DTSTART:20260329T010000
END:DAYLIGHT
BEGIN:STANDARD
TZOFFSETFROM:+0200
TZOFFSETTO:+0100
TZNAME:CET
DTSTART:20261025T010000
END:STANDARD
END:VTIMEZONE
BEGIN:VEVENT
DTSTART;TZID=Europe/Berlin:20250801T180000
DTEND;TZID=Europe/Berlin:20250801T220000
DTSTAMP:20260424T124437
CREATED:20250101T225814Z
LAST-MODIFIED:20250101T225814Z
UID:7972-1754071200-1754085600@www.kpsgz.de
SUMMARY:Airsoft Training (10m-Stand)
DESCRIPTION:Zugriff verweigert. Bitte melden Sie sich für den Mitgliederbereich an. \nadmin@kpsgz.de
URL:https://www.kpsgz.de/event/airsoft-training-10m-stand-15/
LOCATION:königlich privilegierte Schützengesellschaft Zirndorf\, Eichenhain 1\, Zirndorf\, 90513\, Deutschland
CATEGORIES:Airsoft
END:VEVENT
BEGIN:VEVENT
DTSTART;TZID=Europe/Berlin:20250802T090000
DTEND;TZID=Europe/Berlin:20250802T140000
DTSTAMP:20260424T124437
CREATED:20250101T225814Z
LAST-MODIFIED:20250101T225814Z
UID:7973-1754125200-1754143200@www.kpsgz.de
SUMMARY:Arbeitsdienst
DESCRIPTION:Zugriff verweigert. Bitte melden Sie sich für den Mitgliederbereich an. \nadmin@kpsgz.de
URL:https://www.kpsgz.de/event/arbeitsdienst-55/
LOCATION:königlich privilegierte Schützengesellschaft Zirndorf\, Eichenhain 1\, Zirndorf\, 90513\, Deutschland
END:VEVENT
BEGIN:VEVENT
DTSTART;TZID=Europe/Berlin:20250805T190000
DTEND;TZID=Europe/Berlin:20250805T220000
DTSTAMP:20260424T124437
CREATED:20250101T230901Z
LAST-MODIFIED:20250101T230901Z
UID:8040-1754420400-1754431200@www.kpsgz.de
SUMMARY:BDS-Training
DESCRIPTION:Zugriff verweigert. Bitte melden Sie sich für den Mitgliederbereich an. \nadmin@kpsgz.de
URL:https://www.kpsgz.de/event/bds-training-15/
LOCATION:königlich privilegierte Schützengesellschaft Zirndorf\, Eichenhain 1\, Zirndorf\, 90513\, Deutschland
CATEGORIES:BDS
END:VEVENT
BEGIN:VEVENT
DTSTART;TZID=Europe/Berlin:20250808T180000
DTEND;TZID=Europe/Berlin:20250808T203000
DTSTAMP:20260424T124437
CREATED:20250101T230150Z
LAST-MODIFIED:20250101T230150Z
UID:8010-1754676000-1754685000@www.kpsgz.de
SUMMARY:KK Mehrlader (100m-Stand)
DESCRIPTION:Zugriff verweigert. Bitte melden Sie sich für den Mitgliederbereich an. \nadmin@kpsgz.de
URL:https://www.kpsgz.de/event/kk-mehrlader-100m-stand-8/
LOCATION:königlich privilegierte Schützengesellschaft Zirndorf\, Eichenhain 1\, Zirndorf\, 90513\, Deutschland
CATEGORIES:Kleinkaliber
END:VEVENT
BEGIN:VEVENT
DTSTART;TZID=Europe/Berlin:20250815T180000
DTEND;TZID=Europe/Berlin:20250815T220000
DTSTAMP:20260424T124437
CREATED:20250101T225828Z
LAST-MODIFIED:20250101T225828Z
UID:7974-1755280800-1755295200@www.kpsgz.de
SUMMARY:Airsoft Training (10m-Stand)
DESCRIPTION:Zugriff verweigert. Bitte melden Sie sich für den Mitgliederbereich an. \nadmin@kpsgz.de
URL:https://www.kpsgz.de/event/airsoft-training-10m-stand-16/
LOCATION:königlich privilegierte Schützengesellschaft Zirndorf\, Eichenhain 1\, Zirndorf\, 90513\, Deutschland
CATEGORIES:Airsoft
END:VEVENT
BEGIN:VEVENT
DTSTART;TZID=Europe/Berlin:20250819T190000
DTEND;TZID=Europe/Berlin:20250819T220000
DTSTAMP:20260424T124437
CREATED:20250101T230902Z
LAST-MODIFIED:20250101T230902Z
UID:8041-1755630000-1755640800@www.kpsgz.de
SUMMARY:BDS-Training
DESCRIPTION:Zugriff verweigert. Bitte melden Sie sich für den Mitgliederbereich an. \nadmin@kpsgz.de
URL:https://www.kpsgz.de/event/bds-training-16/
LOCATION:königlich privilegierte Schützengesellschaft Zirndorf\, Eichenhain 1\, Zirndorf\, 90513\, Deutschland
CATEGORIES:BDS
END:VEVENT
BEGIN:VEVENT
DTSTART;TZID=Europe/Berlin:20250822T180000
DTEND;TZID=Europe/Berlin:20250822T203000
DTSTAMP:20260424T124437
CREATED:20250101T230326Z
LAST-MODIFIED:20250101T230326Z
UID:8022-1755885600-1755894600@www.kpsgz.de
SUMMARY:Unterhebel C (25m-Stand rechts)
DESCRIPTION:Zugriff verweigert. Bitte melden Sie sich für den Mitgliederbereich an. \nadmin@kpsgz.de
URL:https://www.kpsgz.de/event/unterhebel-c-25m-stand-rechts-7/
LOCATION:königlich privilegierte Schützengesellschaft Zirndorf\, Eichenhain 1\, Zirndorf\, 90513\, Deutschland
CATEGORIES:Kleinkaliber
END:VEVENT
BEGIN:VEVENT
DTSTART;TZID=Europe/Berlin:20250823T130000
DTEND;TZID=Europe/Berlin:20250823T160000
DTSTAMP:20260424T124437
CREATED:20250101T225829Z
LAST-MODIFIED:20250213T210618Z
UID:7975-1755954000-1755964800@www.kpsgz.de
SUMMARY:Kirchweihzug
DESCRIPTION:Zugriff verweigert. Bitte melden Sie sich für den Mitgliederbereich an. \nadmin@kpsgz.de
URL:https://www.kpsgz.de/event/kirchweihzug/
LOCATION:königlich privilegierte Schützengesellschaft Zirndorf\, Eichenhain 1\, Zirndorf\, 90513\, Deutschland
END:VEVENT
BEGIN:VEVENT
DTSTART;TZID=Europe/Berlin:20250828T190000
DTEND;TZID=Europe/Berlin:20250828T190000
DTSTAMP:20260424T124437
CREATED:20250101T225829Z
LAST-MODIFIED:20250101T225829Z
UID:7976-1756407600-1756407600@www.kpsgz.de
SUMMARY:Treffen der Altersschützen
DESCRIPTION:Zugriff verweigert. Bitte melden Sie sich für den Mitgliederbereich an. \nadmin@kpsgz.de
URL:https://www.kpsgz.de/event/treffen-der-altersschuetzen-51/
LOCATION:königlich privilegierte Schützengesellschaft Zirndorf\, Eichenhain 1\, Zirndorf\, 90513\, Deutschland
CATEGORIES:Altersschützen
END:VEVENT
BEGIN:VEVENT
DTSTART;TZID=Europe/Berlin:20250830T170000
DTEND;TZID=Europe/Berlin:20250830T210000
DTSTAMP:20260424T124437
CREATED:20250101T230946Z
LAST-MODIFIED:20250110T212905Z
UID:8057-1756573200-1756587600@www.kpsgz.de
SUMMARY:Ordonnanztraining (100m-Stand)
DESCRIPTION:Zugriff verweigert. Bitte melden Sie sich für den Mitgliederbereich an. \nadmin@kpsgz.de
URL:https://www.kpsgz.de/event/ordonnanztraining-100m-stand-8/
LOCATION:königlich privilegierte Schützengesellschaft Zirndorf\, Eichenhain 1\, Zirndorf\, 90513\, Deutschland
CATEGORIES:Ordonnanz
END:VEVENT
END:VCALENDAR