BEGIN:VCALENDAR
VERSION:2.0
PRODID:-//Königlich privilegierte Schützengesellschaft Zirndorf - ECPv6.15.16//NONSGML v1.0//EN
CALSCALE:GREGORIAN
METHOD:PUBLISH
X-ORIGINAL-URL:https://www.kpsgz.de
X-WR-CALDESC:Veranstaltungen für Königlich privilegierte Schützengesellschaft Zirndorf
REFRESH-INTERVAL;VALUE=DURATION:PT1H
X-Robots-Tag:noindex
X-PUBLISHED-TTL:PT1H
BEGIN:VTIMEZONE
TZID:Europe/Berlin
BEGIN:DAYLIGHT
TZOFFSETFROM:+0100
TZOFFSETTO:+0200
TZNAME:CEST
DTSTART:20240331T010000
END:DAYLIGHT
BEGIN:STANDARD
TZOFFSETFROM:+0200
TZOFFSETTO:+0100
TZNAME:CET
DTSTART:20241027T010000
END:STANDARD
BEGIN:DAYLIGHT
TZOFFSETFROM:+0100
TZOFFSETTO:+0200
TZNAME:CEST
DTSTART:20250330T010000
END:DAYLIGHT
BEGIN:STANDARD
TZOFFSETFROM:+0200
TZOFFSETTO:+0100
TZNAME:CET
DTSTART:20251026T010000
END:STANDARD
BEGIN:DAYLIGHT
TZOFFSETFROM:+0100
TZOFFSETTO:+0200
TZNAME:CEST
DTSTART:20260329T010000
END:DAYLIGHT
BEGIN:STANDARD
TZOFFSETFROM:+0200
TZOFFSETTO:+0100
TZNAME:CET
DTSTART:20261025T010000
END:STANDARD
END:VTIMEZONE
BEGIN:VEVENT
DTSTART;TZID=Europe/Berlin:20250603T190000
DTEND;TZID=Europe/Berlin:20250603T200000
DTSTAMP:20260424T002645
CREATED:20250101T225730Z
LAST-MODIFIED:20250515T202557Z
UID:7957-1748977200-1748980800@www.kpsgz.de
SUMMARY:Abteilungsleiter-/ Mannschaftssitzung
DESCRIPTION:Zugriff verweigert. Bitte melden Sie sich für den Mitgliederbereich an. \nadmin@kpsgz.de
URL:https://www.kpsgz.de/event/abteilungsleiter-mannschaftsfuehrersitzung/
LOCATION:königlich privilegierte Schützengesellschaft Zirndorf\, Eichenhain 1\, Zirndorf\, 90513\, Deutschland
END:VEVENT
BEGIN:VEVENT
DTSTART;TZID=Europe/Berlin:20250603T190000
DTEND;TZID=Europe/Berlin:20250603T220000
DTSTAMP:20260424T002645
CREATED:20250101T230743Z
LAST-MODIFIED:20250101T230743Z
UID:8036-1748977200-1748988000@www.kpsgz.de
SUMMARY:BDS-Training
DESCRIPTION:Zugriff verweigert. Bitte melden Sie sich für den Mitgliederbereich an. \nadmin@kpsgz.de
URL:https://www.kpsgz.de/event/bds-training-11/
LOCATION:königlich privilegierte Schützengesellschaft Zirndorf\, Eichenhain 1\, Zirndorf\, 90513\, Deutschland
CATEGORIES:BDS
END:VEVENT
BEGIN:VEVENT
DTSTART;TZID=Europe/Berlin:20250605T100000
DTEND;TZID=Europe/Berlin:20250605T120000
DTSTAMP:20260424T002645
CREATED:20250323T170357Z
LAST-MODIFIED:20250323T170357Z
UID:8340-1749117600-1749124800@www.kpsgz.de
SUMMARY:Vormittagstraining
DESCRIPTION:Zugriff verweigert. Bitte melden Sie sich für den Mitgliederbereich an. \nadmin@kpsgz.de
URL:https://www.kpsgz.de/event/vormittagstraining-22/
LOCATION:königlich privilegierte Schützengesellschaft Zirndorf\, Eichenhain 1\, Zirndorf\, 90513\, Deutschland
END:VEVENT
BEGIN:VEVENT
DTSTART;TZID=Europe/Berlin:20250606T180000
DTEND;TZID=Europe/Berlin:20250606T220000
DTSTAMP:20260424T002645
CREATED:20250101T225743Z
LAST-MODIFIED:20250101T225743Z
UID:7961-1749232800-1749247200@www.kpsgz.de
SUMMARY:Airsoft Training (10m-Stand)
DESCRIPTION:Zugriff verweigert. Bitte melden Sie sich für den Mitgliederbereich an. \nadmin@kpsgz.de
URL:https://www.kpsgz.de/event/airsoft-training-10m-stand-11/
LOCATION:königlich privilegierte Schützengesellschaft Zirndorf\, Eichenhain 1\, Zirndorf\, 90513\, Deutschland
CATEGORIES:Airsoft
END:VEVENT
BEGIN:VEVENT
DTSTART;TZID=Europe/Berlin:20250607T090000
DTEND;TZID=Europe/Berlin:20250607T140000
DTSTAMP:20260424T002645
CREATED:20250101T225743Z
LAST-MODIFIED:20250101T225743Z
UID:7962-1749286800-1749304800@www.kpsgz.de
SUMMARY:Arbeitsdienst
DESCRIPTION:Zugriff verweigert. Bitte melden Sie sich für den Mitgliederbereich an. \nadmin@kpsgz.de
URL:https://www.kpsgz.de/event/arbeitsdienst-51/
LOCATION:königlich privilegierte Schützengesellschaft Zirndorf\, Eichenhain 1\, Zirndorf\, 90513\, Deutschland
END:VEVENT
BEGIN:VEVENT
DTSTART;TZID=Europe/Berlin:20250610T100000
DTEND;TZID=Europe/Berlin:20250610T120000
DTSTAMP:20260424T002645
CREATED:20250323T170412Z
LAST-MODIFIED:20250323T170412Z
UID:8341-1749549600-1749556800@www.kpsgz.de
SUMMARY:Vormittagstraining
DESCRIPTION:Zugriff verweigert. Bitte melden Sie sich für den Mitgliederbereich an. \nadmin@kpsgz.de
URL:https://www.kpsgz.de/event/vormittagstraining-23/
LOCATION:königlich privilegierte Schützengesellschaft Zirndorf\, Eichenhain 1\, Zirndorf\, 90513\, Deutschland
END:VEVENT
BEGIN:VEVENT
DTSTART;TZID=Europe/Berlin:20250613T180000
DTEND;TZID=Europe/Berlin:20250613T203000
DTSTAMP:20260424T002645
CREATED:20250101T225959Z
LAST-MODIFIED:20250101T225959Z
UID:8008-1749837600-1749846600@www.kpsgz.de
SUMMARY:KK Mehrlader (100m-Stand)
DESCRIPTION:Zugriff verweigert. Bitte melden Sie sich für den Mitgliederbereich an. \nadmin@kpsgz.de
URL:https://www.kpsgz.de/event/kk-mehrlader-100m-stand-6/
LOCATION:königlich privilegierte Schützengesellschaft Zirndorf\, Eichenhain 1\, Zirndorf\, 90513\, Deutschland
CATEGORIES:Kleinkaliber
END:VEVENT
BEGIN:VEVENT
DTSTART;TZID=Europe/Berlin:20250617T190000
DTEND;TZID=Europe/Berlin:20250617T220000
DTSTAMP:20260424T002645
CREATED:20250101T230743Z
LAST-MODIFIED:20250101T230743Z
UID:8037-1750186800-1750197600@www.kpsgz.de
SUMMARY:BDS-Training
DESCRIPTION:Zugriff verweigert. Bitte melden Sie sich für den Mitgliederbereich an. \nadmin@kpsgz.de
URL:https://www.kpsgz.de/event/bds-training-12/
LOCATION:königlich privilegierte Schützengesellschaft Zirndorf\, Eichenhain 1\, Zirndorf\, 90513\, Deutschland
CATEGORIES:BDS
END:VEVENT
BEGIN:VEVENT
DTSTART;TZID=Europe/Berlin:20250620T180000
DTEND;TZID=Europe/Berlin:20250620T220000
DTSTAMP:20260424T002645
CREATED:20250101T225744Z
LAST-MODIFIED:20250101T225744Z
UID:7963-1750442400-1750456800@www.kpsgz.de
SUMMARY:Airsoft Training (10m-Stand)
DESCRIPTION:Zugriff verweigert. Bitte melden Sie sich für den Mitgliederbereich an. \nadmin@kpsgz.de
URL:https://www.kpsgz.de/event/airsoft-training-10m-stand-12/
LOCATION:königlich privilegierte Schützengesellschaft Zirndorf\, Eichenhain 1\, Zirndorf\, 90513\, Deutschland
CATEGORIES:Airsoft
END:VEVENT
BEGIN:VEVENT
DTSTART;TZID=Europe/Berlin:20250620T180000
DTEND;TZID=Europe/Berlin:20250620T220000
DTSTAMP:20260424T002645
CREATED:20250213T184242Z
LAST-MODIFIED:20250213T184505Z
UID:8255-1750442400-1750456800@www.kpsgz.de
SUMMARY:Waffensachkunde 02/2025 - Theorie
DESCRIPTION:Zugriff verweigert. Bitte melden Sie sich für den Mitgliederbereich an. \nadmin@kpsgz.de
URL:https://www.kpsgz.de/event/waffensachkunde-02-2025-theorie/
LOCATION:königlich privilegierte Schützengesellschaft Zirndorf\, Eichenhain 1\, Zirndorf\, 90513\, Deutschland
CATEGORIES:Waffensachkunde
END:VEVENT
BEGIN:VEVENT
DTSTART;TZID=Europe/Berlin:20250621T090000
DTEND;TZID=Europe/Berlin:20250621T140000
DTSTAMP:20260424T002645
CREATED:20250101T225757Z
LAST-MODIFIED:20250101T225757Z
UID:7964-1750496400-1750514400@www.kpsgz.de
SUMMARY:Arbeitsdienst
DESCRIPTION:Zugriff verweigert. Bitte melden Sie sich für den Mitgliederbereich an. \nadmin@kpsgz.de
URL:https://www.kpsgz.de/event/arbeitsdienst-52/
LOCATION:königlich privilegierte Schützengesellschaft Zirndorf\, Eichenhain 1\, Zirndorf\, 90513\, Deutschland
END:VEVENT
BEGIN:VEVENT
DTSTART;TZID=Europe/Berlin:20250621T090000
DTEND;TZID=Europe/Berlin:20250621T170000
DTSTAMP:20260424T002645
CREATED:20250213T184329Z
LAST-MODIFIED:20250213T184636Z
UID:8254-1750496400-1750525200@www.kpsgz.de
SUMMARY:Waffensachkunde 02/2025 - Theorie
DESCRIPTION:Zugriff verweigert. Bitte melden Sie sich für den Mitgliederbereich an. \nadmin@kpsgz.de
URL:https://www.kpsgz.de/event/waffensachkunde-02-2025-theorie-2/
LOCATION:königlich privilegierte Schützengesellschaft Zirndorf\, Eichenhain 1\, Zirndorf\, 90513\, Deutschland
CATEGORIES:Waffensachkunde
END:VEVENT
BEGIN:VEVENT
DTSTART;TZID=Europe/Berlin:20250622T090000
DTEND;TZID=Europe/Berlin:20250622T150000
DTSTAMP:20260424T002645
CREATED:20250213T184418Z
LAST-MODIFIED:20250213T184418Z
UID:8253-1750582800-1750604400@www.kpsgz.de
SUMMARY:Waffensachkunde 02/2025 - Theorie
DESCRIPTION:Zugriff verweigert. Bitte melden Sie sich für den Mitgliederbereich an. \nadmin@kpsgz.de
URL:https://www.kpsgz.de/event/waffensachkunde-02-2025-theorie-3/
LOCATION:königlich privilegierte Schützengesellschaft Zirndorf\, Eichenhain 1\, Zirndorf\, 90513\, Deutschland
CATEGORIES:Waffensachkunde
END:VEVENT
BEGIN:VEVENT
DTSTART;TZID=Europe/Berlin:20250624T100000
DTEND;TZID=Europe/Berlin:20250624T120000
DTSTAMP:20260424T002645
CREATED:20250323T170412Z
LAST-MODIFIED:20250323T170412Z
UID:8342-1750759200-1750766400@www.kpsgz.de
SUMMARY:Vormittagstraining
DESCRIPTION:Zugriff verweigert. Bitte melden Sie sich für den Mitgliederbereich an. \nadmin@kpsgz.de
URL:https://www.kpsgz.de/event/vormittagstraining-24/
LOCATION:königlich privilegierte Schützengesellschaft Zirndorf\, Eichenhain 1\, Zirndorf\, 90513\, Deutschland
END:VEVENT
BEGIN:VEVENT
DTSTART;TZID=Europe/Berlin:20250624T180000
DTEND;TZID=Europe/Berlin:20250624T210000
DTSTAMP:20260424T002645
CREATED:20250213T184830Z
LAST-MODIFIED:20250213T184830Z
UID:8271-1750788000-1750798800@www.kpsgz.de
SUMMARY:Waffensachkunde 02/2025 - Praxis
DESCRIPTION:Zugriff verweigert. Bitte melden Sie sich für den Mitgliederbereich an. \nadmin@kpsgz.de
URL:https://www.kpsgz.de/event/waffensachkunde-02-2025-praxis-2/
LOCATION:königlich privilegierte Schützengesellschaft Zirndorf\, Eichenhain 1\, Zirndorf\, 90513\, Deutschland
CATEGORIES:Waffensachkunde
END:VEVENT
BEGIN:VEVENT
DTSTART;TZID=Europe/Berlin:20250626T190000
DTEND;TZID=Europe/Berlin:20250626T190000
DTSTAMP:20260424T002645
CREATED:20250101T225758Z
LAST-MODIFIED:20250101T225758Z
UID:7965-1750964400-1750964400@www.kpsgz.de
SUMMARY:Treffen der Altersschützen
DESCRIPTION:Zugriff verweigert. Bitte melden Sie sich für den Mitgliederbereich an. \nadmin@kpsgz.de
URL:https://www.kpsgz.de/event/treffen-der-altersschuetzen-49/
LOCATION:königlich privilegierte Schützengesellschaft Zirndorf\, Eichenhain 1\, Zirndorf\, 90513\, Deutschland
CATEGORIES:Altersschützen
END:VEVENT
BEGIN:VEVENT
DTSTART;TZID=Europe/Berlin:20250627T180000
DTEND;TZID=Europe/Berlin:20250627T203000
DTSTAMP:20260424T002645
CREATED:20250101T230326Z
LAST-MODIFIED:20250101T230326Z
UID:8020-1751047200-1751056200@www.kpsgz.de
SUMMARY:Unterhebel C (25m-Stand rechts)
DESCRIPTION:Zugriff verweigert. Bitte melden Sie sich für den Mitgliederbereich an. \nadmin@kpsgz.de
URL:https://www.kpsgz.de/event/unterhebel-c-25m-stand-rechts-5/
LOCATION:königlich privilegierte Schützengesellschaft Zirndorf\, Eichenhain 1\, Zirndorf\, 90513\, Deutschland
CATEGORIES:Kleinkaliber
END:VEVENT
BEGIN:VEVENT
DTSTART;TZID=Europe/Berlin:20250628T090000
DTEND;TZID=Europe/Berlin:20250628T130000
DTSTAMP:20260424T002645
CREATED:20250213T184112Z
LAST-MODIFIED:20250213T184112Z
UID:8252-1751101200-1751115600@www.kpsgz.de
SUMMARY:Waffensachkunde 02/2025 - Prüfung
DESCRIPTION:Zugriff verweigert. Bitte melden Sie sich für den Mitgliederbereich an. \nadmin@kpsgz.de
URL:https://www.kpsgz.de/event/waffensachkunde-02-2025-pruefung/
LOCATION:königlich privilegierte Schützengesellschaft Zirndorf\, Eichenhain 1\, Zirndorf\, 90513\, Deutschland
CATEGORIES:Waffensachkunde
END:VEVENT
BEGIN:VEVENT
DTSTART;TZID=Europe/Berlin:20250628T170000
DTEND;TZID=Europe/Berlin:20250628T210000
DTSTAMP:20260424T002645
CREATED:20250101T230945Z
LAST-MODIFIED:20250110T212748Z
UID:8055-1751130000-1751144400@www.kpsgz.de
SUMMARY:Ordonnanztraining (100m-Stand)
DESCRIPTION:Zugriff verweigert. Bitte melden Sie sich für den Mitgliederbereich an. \nadmin@kpsgz.de
URL:https://www.kpsgz.de/event/ordonnanztraining-100m-stand-6/
LOCATION:königlich privilegierte Schützengesellschaft Zirndorf\, Eichenhain 1\, Zirndorf\, 90513\, Deutschland
CATEGORIES:Ordonnanz
END:VEVENT
END:VCALENDAR