BEGIN:VCALENDAR
VERSION:2.0
PRODID:-//Königlich privilegierte Schützengesellschaft Zirndorf - ECPv6.15.16//NONSGML v1.0//EN
CALSCALE:GREGORIAN
METHOD:PUBLISH
X-ORIGINAL-URL:https://www.kpsgz.de
X-WR-CALDESC:Veranstaltungen für Königlich privilegierte Schützengesellschaft Zirndorf
REFRESH-INTERVAL;VALUE=DURATION:PT1H
X-Robots-Tag:noindex
X-PUBLISHED-TTL:PT1H
BEGIN:VTIMEZONE
TZID:Europe/Berlin
BEGIN:DAYLIGHT
TZOFFSETFROM:+0100
TZOFFSETTO:+0200
TZNAME:CEST
DTSTART:20230326T010000
END:DAYLIGHT
BEGIN:STANDARD
TZOFFSETFROM:+0200
TZOFFSETTO:+0100
TZNAME:CET
DTSTART:20231029T010000
END:STANDARD
BEGIN:DAYLIGHT
TZOFFSETFROM:+0100
TZOFFSETTO:+0200
TZNAME:CEST
DTSTART:20240331T010000
END:DAYLIGHT
BEGIN:STANDARD
TZOFFSETFROM:+0200
TZOFFSETTO:+0100
TZNAME:CET
DTSTART:20241027T010000
END:STANDARD
BEGIN:DAYLIGHT
TZOFFSETFROM:+0100
TZOFFSETTO:+0200
TZNAME:CEST
DTSTART:20250330T010000
END:DAYLIGHT
BEGIN:STANDARD
TZOFFSETFROM:+0200
TZOFFSETTO:+0100
TZNAME:CET
DTSTART:20251026T010000
END:STANDARD
END:VTIMEZONE
BEGIN:VEVENT
DTSTART;TZID=Europe/Berlin:20241101T180000
DTEND;TZID=Europe/Berlin:20241101T220000
DTSTAMP:20260423T220102
CREATED:20231119T150134Z
LAST-MODIFIED:20231119T150134Z
UID:6791-1730484000-1730498400@www.kpsgz.de
SUMMARY:Airsoft Training
DESCRIPTION:Zugriff verweigert. Bitte melden Sie sich für den Mitgliederbereich an. \nadmin@kpsgz.de
URL:https://www.kpsgz.de/event/airsoft-training-50/
LOCATION:königlich privilegierte Schützengesellschaft Zirndorf\, Eichenhain 1\, Zirndorf\, 90513\, Deutschland
CATEGORIES:Airsoft
END:VEVENT
BEGIN:VEVENT
DTSTART;TZID=Europe/Berlin:20241102T090000
DTEND;TZID=Europe/Berlin:20241102T140000
DTSTAMP:20260423T220102
CREATED:20231119T145737Z
LAST-MODIFIED:20231119T145737Z
UID:6745-1730538000-1730556000@www.kpsgz.de
SUMMARY:Arbeitsdienst
DESCRIPTION:Zugriff verweigert. Bitte melden Sie sich für den Mitgliederbereich an. \nadmin@kpsgz.de
URL:https://www.kpsgz.de/event/arbeitsdienst-41/
LOCATION:königlich privilegierte Schützengesellschaft Zirndorf\, Eichenhain 1\, Zirndorf\, 90513\, Deutschland
END:VEVENT
BEGIN:VEVENT
DTSTART;TZID=Europe/Berlin:20241115T180000
DTEND;TZID=Europe/Berlin:20241115T220000
DTSTAMP:20260423T220102
CREATED:20231119T150135Z
LAST-MODIFIED:20231119T150135Z
UID:6792-1731693600-1731708000@www.kpsgz.de
SUMMARY:Airsoft Training
DESCRIPTION:Zugriff verweigert. Bitte melden Sie sich für den Mitgliederbereich an. \nadmin@kpsgz.de
URL:https://www.kpsgz.de/event/airsoft-training-51/
LOCATION:königlich privilegierte Schützengesellschaft Zirndorf\, Eichenhain 1\, Zirndorf\, 90513\, Deutschland
CATEGORIES:Airsoft
END:VEVENT
BEGIN:VEVENT
DTSTART;TZID=Europe/Berlin:20241125T180000
DTEND;TZID=Europe/Berlin:20241125T210000
DTSTAMP:20260423T220102
CREATED:20231119T145824Z
LAST-MODIFIED:20231119T145824Z
UID:6764-1732557600-1732568400@www.kpsgz.de
SUMMARY:Weihnachtsschießen
DESCRIPTION:Zugriff verweigert. Bitte melden Sie sich für den Mitgliederbereich an. \nadmin@kpsgz.de
URL:https://www.kpsgz.de/event/weihnachtsschiessen-8/
LOCATION:königlich privilegierte Schützengesellschaft Zirndorf\, Eichenhain 1\, Zirndorf\, 90513\, Deutschland
CATEGORIES:Preisschießen
END:VEVENT
BEGIN:VEVENT
DTSTART;TZID=Europe/Berlin:20241126T183000
DTEND;TZID=Europe/Berlin:20241126T183000
DTSTAMP:20260423T220102
CREATED:20240123T150528Z
LAST-MODIFIED:20240123T150528Z
UID:7197-1732645800-1732645800@www.kpsgz.de
SUMMARY:Ordonnanz Training
DESCRIPTION:Zugriff verweigert. Bitte melden Sie sich für den Mitgliederbereich an. \nadmin@kpsgz.de
URL:https://www.kpsgz.de/event/ordonnanz-training-14/
CATEGORIES:Ordonnanz
END:VEVENT
BEGIN:VEVENT
DTSTART;TZID=Europe/Berlin:20241128T180000
DTEND;TZID=Europe/Berlin:20241128T210000
DTSTAMP:20260423T220102
CREATED:20231119T145838Z
LAST-MODIFIED:20231119T145838Z
UID:6765-1732816800-1732827600@www.kpsgz.de
SUMMARY:Weihnachtsschießen
DESCRIPTION:Zugriff verweigert. Bitte melden Sie sich für den Mitgliederbereich an. \nadmin@kpsgz.de
URL:https://www.kpsgz.de/event/weihnachtsschiessen-9/
LOCATION:königlich privilegierte Schützengesellschaft Zirndorf\, Eichenhain 1\, Zirndorf\, 90513\, Deutschland
CATEGORIES:Preisschießen
END:VEVENT
BEGIN:VEVENT
DTSTART;TZID=Europe/Berlin:20241128T190000
DTEND;TZID=Europe/Berlin:20241128T190000
DTSTAMP:20260423T220102
CREATED:20231119T145808Z
LAST-MODIFIED:20231119T145808Z
UID:6757-1732820400-1732820400@www.kpsgz.de
SUMMARY:Treffen der Altersschützen
DESCRIPTION:Zugriff verweigert. Bitte melden Sie sich für den Mitgliederbereich an. \nadmin@kpsgz.de
URL:https://www.kpsgz.de/event/treffen-der-altersschuetzen-42/
LOCATION:königlich privilegierte Schützengesellschaft Zirndorf\, Eichenhain 1\, Zirndorf\, 90513\, Deutschland
CATEGORIES:Altersschützen
END:VEVENT
END:VCALENDAR