BEGIN:VCALENDAR
VERSION:2.0
PRODID:-//Königlich privilegierte Schützengesellschaft Zirndorf - ECPv6.15.16//NONSGML v1.0//EN
CALSCALE:GREGORIAN
METHOD:PUBLISH
X-WR-CALNAME:Königlich privilegierte Schützengesellschaft Zirndorf
X-ORIGINAL-URL:https://www.kpsgz.de
X-WR-CALDESC:Veranstaltungen für Königlich privilegierte Schützengesellschaft Zirndorf
REFRESH-INTERVAL;VALUE=DURATION:PT1H
X-Robots-Tag:noindex
X-PUBLISHED-TTL:PT1H
BEGIN:VTIMEZONE
TZID:Europe/Berlin
BEGIN:DAYLIGHT
TZOFFSETFROM:+0100
TZOFFSETTO:+0200
TZNAME:CEST
DTSTART:20230326T010000
END:DAYLIGHT
BEGIN:STANDARD
TZOFFSETFROM:+0200
TZOFFSETTO:+0100
TZNAME:CET
DTSTART:20231029T010000
END:STANDARD
BEGIN:DAYLIGHT
TZOFFSETFROM:+0100
TZOFFSETTO:+0200
TZNAME:CEST
DTSTART:20240331T010000
END:DAYLIGHT
BEGIN:STANDARD
TZOFFSETFROM:+0200
TZOFFSETTO:+0100
TZNAME:CET
DTSTART:20241027T010000
END:STANDARD
BEGIN:DAYLIGHT
TZOFFSETFROM:+0100
TZOFFSETTO:+0200
TZNAME:CEST
DTSTART:20250330T010000
END:DAYLIGHT
BEGIN:STANDARD
TZOFFSETFROM:+0200
TZOFFSETTO:+0100
TZNAME:CET
DTSTART:20251026T010000
END:STANDARD
END:VTIMEZONE
BEGIN:VEVENT
DTSTART;TZID=Europe/Berlin:20240704T190000
DTEND;TZID=Europe/Berlin:20240704T190000
DTSTAMP:20260420T204436
CREATED:20231119T145823Z
LAST-MODIFIED:20231119T145823Z
UID:6761-1720119600-1720119600@www.kpsgz.de
SUMMARY:Ausschusssitzung
DESCRIPTION:Zugriff verweigert. Bitte melden Sie sich für den Mitgliederbereich an. \nadmin@kpsgz.de
URL:https://www.kpsgz.de/event/ausschusssitzung-13/
LOCATION:königlich privilegierte Schützengesellschaft Zirndorf\, Eichenhain 1\, Zirndorf\, 90513\, Deutschland
END:VEVENT
BEGIN:VEVENT
DTSTART;TZID=Europe/Berlin:20240705T180000
DTEND;TZID=Europe/Berlin:20240705T220000
DTSTAMP:20260420T204436
CREATED:20231119T150106Z
LAST-MODIFIED:20231119T150106Z
UID:6783-1720202400-1720216800@www.kpsgz.de
SUMMARY:Airsoft Training
DESCRIPTION:Zugriff verweigert. Bitte melden Sie sich für den Mitgliederbereich an. \nadmin@kpsgz.de
URL:https://www.kpsgz.de/event/airsoft-training-42/
LOCATION:königlich privilegierte Schützengesellschaft Zirndorf\, Eichenhain 1\, Zirndorf\, 90513\, Deutschland
CATEGORIES:Airsoft
END:VEVENT
BEGIN:VEVENT
DTSTART;TZID=Europe/Berlin:20240706T090000
DTEND;TZID=Europe/Berlin:20240706T140000
DTSTAMP:20260420T204436
CREATED:20231119T145720Z
LAST-MODIFIED:20231119T145722Z
UID:6736-1720256400-1720274400@www.kpsgz.de
SUMMARY:Arbeitsdienst
DESCRIPTION:Zugriff verweigert. Bitte melden Sie sich für den Mitgliederbereich an. \nadmin@kpsgz.de
URL:https://www.kpsgz.de/event/arbeitsdienst-37/
LOCATION:königlich privilegierte Schützengesellschaft Zirndorf\, Eichenhain 1\, Zirndorf\, 90513\, Deutschland
END:VEVENT
BEGIN:VEVENT
DTSTART;TZID=Europe/Berlin:20240708T190000
DTEND;TZID=Europe/Berlin:20240708T190000
DTSTAMP:20260420T204436
CREATED:20240110T080138Z
LAST-MODIFIED:20240123T072147Z
UID:7141-1720465200-1720465200@www.kpsgz.de
SUMMARY:Schwarzpulver Training
DESCRIPTION:Zugriff verweigert. Bitte melden Sie sich für den Mitgliederbereich an. \nadmin@kpsgz.de
URL:https://www.kpsgz.de/event/schwarzpulver-training-13/
CATEGORIES:Schwarzpulver
END:VEVENT
BEGIN:VEVENT
DTSTART;TZID=Europe/Berlin:20240709T190000
DTEND;TZID=Europe/Berlin:20240709T200000
DTSTAMP:20260420T204436
CREATED:20231119T145840Z
LAST-MODIFIED:20240626T203658Z
UID:6769-1720551600-1720555200@www.kpsgz.de
SUMMARY:Schiessleiterunterweisung
DESCRIPTION:Zugriff verweigert. Bitte melden Sie sich für den Mitgliederbereich an. \nadmin@kpsgz.de
URL:https://www.kpsgz.de/event/schiessleiterunterweisung-4/
LOCATION:königlich privilegierte Schützengesellschaft Zirndorf\, Eichenhain 1\, Zirndorf\, 90513\, Deutschland
CATEGORIES:Schießleiterunterweisung
END:VEVENT
BEGIN:VEVENT
DTSTART;TZID=Europe/Berlin:20240719T180000
DTEND;TZID=Europe/Berlin:20240719T220000
DTSTAMP:20260420T204436
CREATED:20231119T150106Z
LAST-MODIFIED:20231119T150106Z
UID:6784-1721412000-1721426400@www.kpsgz.de
SUMMARY:Airsoft Training
DESCRIPTION:Zugriff verweigert. Bitte melden Sie sich für den Mitgliederbereich an. \nadmin@kpsgz.de
URL:https://www.kpsgz.de/event/airsoft-training-43/
LOCATION:königlich privilegierte Schützengesellschaft Zirndorf\, Eichenhain 1\, Zirndorf\, 90513\, Deutschland
CATEGORIES:Airsoft
END:VEVENT
BEGIN:VEVENT
DTSTART;TZID=Europe/Berlin:20240719T180000
DTEND;TZID=Europe/Berlin:20240719T220000
DTSTAMP:20260420T204436
CREATED:20240209T225323Z
LAST-MODIFIED:20240209T225743Z
UID:7241-1721412000-1721426400@www.kpsgz.de
SUMMARY:Waffensachkunde 03/2024 - Theorie
DESCRIPTION:Zugriff verweigert. Bitte melden Sie sich für den Mitgliederbereich an. \nadmin@kpsgz.de
URL:https://www.kpsgz.de/event/waffensachkunde-03-2024-theorie-3/
LOCATION:königlich privilegierte Schützengesellschaft Zirndorf\, Eichenhain 1\, Zirndorf\, 90513\, Deutschland
CATEGORIES:Waffensachkunde
END:VEVENT
BEGIN:VEVENT
DTSTART;TZID=Europe/Berlin:20240720T090000
DTEND;TZID=Europe/Berlin:20240720T170000
DTSTAMP:20260420T204436
CREATED:20240209T225210Z
LAST-MODIFIED:20240209T225210Z
UID:7238-1721466000-1721494800@www.kpsgz.de
SUMMARY:Waffensachkunde 03/2024 - Theorie
DESCRIPTION:Zugriff verweigert. Bitte melden Sie sich für den Mitgliederbereich an. \nadmin@kpsgz.de
URL:https://www.kpsgz.de/event/waffensachkunde-03-2024-theorie-2/
LOCATION:königlich privilegierte Schützengesellschaft Zirndorf\, Eichenhain 1\, Zirndorf\, 90513\, Deutschland
CATEGORIES:Waffensachkunde
END:VEVENT
BEGIN:VEVENT
DTSTART;TZID=Europe/Berlin:20240721T090000
DTEND;TZID=Europe/Berlin:20240721T150000
DTSTAMP:20260420T204436
CREATED:20240209T225029Z
LAST-MODIFIED:20240209T225049Z
UID:7234-1721552400-1721574000@www.kpsgz.de
SUMMARY:Waffensachkunde 03/2024 - Theorie
DESCRIPTION:Zugriff verweigert. Bitte melden Sie sich für den Mitgliederbereich an. \nadmin@kpsgz.de
URL:https://www.kpsgz.de/event/waffensachkunde-03-2024-theorie/
LOCATION:königlich privilegierte Schützengesellschaft Zirndorf\, Eichenhain 1\, Zirndorf\, 90513\, Deutschland
CATEGORIES:Waffensachkunde
END:VEVENT
BEGIN:VEVENT
DTSTART;TZID=Europe/Berlin:20240722T190000
DTEND;TZID=Europe/Berlin:20240722T190000
DTSTAMP:20260420T204436
CREATED:20240110T080139Z
LAST-MODIFIED:20240123T072147Z
UID:7142-1721674800-1721674800@www.kpsgz.de
SUMMARY:Schwarzpulver Training
DESCRIPTION:Zugriff verweigert. Bitte melden Sie sich für den Mitgliederbereich an. \nadmin@kpsgz.de
URL:https://www.kpsgz.de/event/schwarzpulver-training-14/
CATEGORIES:Schwarzpulver
END:VEVENT
BEGIN:VEVENT
DTSTART;TZID=Europe/Berlin:20240723T180000
DTEND;TZID=Europe/Berlin:20240723T220000
DTSTAMP:20260420T204436
CREATED:20240209T224927Z
LAST-MODIFIED:20240209T224927Z
UID:7231-1721757600-1721772000@www.kpsgz.de
SUMMARY:Waffensachkunde 03/2024 - Praxis
DESCRIPTION:Zugriff verweigert. Bitte melden Sie sich für den Mitgliederbereich an. \nadmin@kpsgz.de
URL:https://www.kpsgz.de/event/waffensachkunde-03-2024-praxis/
LOCATION:königlich privilegierte Schützengesellschaft Zirndorf\, Eichenhain 1\, Zirndorf\, 90513\, Deutschland
CATEGORIES:Waffensachkunde
END:VEVENT
BEGIN:VEVENT
DTSTART;TZID=Europe/Berlin:20240725T190000
DTEND;TZID=Europe/Berlin:20240725T190000
DTSTAMP:20260420T204436
CREATED:20231119T145754Z
LAST-MODIFIED:20231119T145754Z
UID:6753-1721934000-1721934000@www.kpsgz.de
SUMMARY:Treffen der Altersschützen
DESCRIPTION:Zugriff verweigert. Bitte melden Sie sich für den Mitgliederbereich an. \nadmin@kpsgz.de
URL:https://www.kpsgz.de/event/treffen-der-altersschuetzen-38/
LOCATION:königlich privilegierte Schützengesellschaft Zirndorf\, Eichenhain 1\, Zirndorf\, 90513\, Deutschland
CATEGORIES:Altersschützen
END:VEVENT
BEGIN:VEVENT
DTSTART;TZID=Europe/Berlin:20240727T090000
DTEND;TZID=Europe/Berlin:20240727T130000
DTSTAMP:20260420T204436
CREATED:20240209T224749Z
LAST-MODIFIED:20240209T224749Z
UID:7228-1722070800-1722085200@www.kpsgz.de
SUMMARY:Waffensachkunde 03/2024 - Prüfung
DESCRIPTION:Zugriff verweigert. Bitte melden Sie sich für den Mitgliederbereich an. \nadmin@kpsgz.de
URL:https://www.kpsgz.de/event/waffensachkunde-03-2024-pruefung/
LOCATION:königlich privilegierte Schützengesellschaft Zirndorf\, Eichenhain 1\, Zirndorf\, 90513\, Deutschland
CATEGORIES:Waffensachkunde
END:VEVENT
BEGIN:VEVENT
DTSTART;TZID=Europe/Berlin:20240730T183000
DTEND;TZID=Europe/Berlin:20240730T183000
DTSTAMP:20260420T204436
CREATED:20240123T150527Z
LAST-MODIFIED:20240123T150527Z
UID:7193-1722364200-1722364200@www.kpsgz.de
SUMMARY:Ordonnanz Training
DESCRIPTION:Zugriff verweigert. Bitte melden Sie sich für den Mitgliederbereich an. \nadmin@kpsgz.de
URL:https://www.kpsgz.de/event/ordonnanz-training-10/
CATEGORIES:Ordonnanz
END:VEVENT
END:VCALENDAR